BEGIN:VCALENDAR
VERSION:2.0
PRODID:-//Wandelstadt Esslingen - ECPv6.15.20//NONSGML v1.0//EN
CALSCALE:GREGORIAN
METHOD:PUBLISH
X-WR-CALNAME:Wandelstadt Esslingen
X-ORIGINAL-URL:https://wandelstadt-esslingen.de
X-WR-CALDESC:Veranstaltungen für Wandelstadt Esslingen
REFRESH-INTERVAL;VALUE=DURATION:PT1H
X-Robots-Tag:noindex
X-PUBLISHED-TTL:PT1H
BEGIN:VTIMEZONE
TZID:Europe/Berlin
BEGIN:DAYLIGHT
TZOFFSETFROM:+0100
TZOFFSETTO:+0200
TZNAME:CEST
DTSTART:20220327T010000
END:DAYLIGHT
BEGIN:STANDARD
TZOFFSETFROM:+0200
TZOFFSETTO:+0100
TZNAME:CET
DTSTART:20221030T010000
END:STANDARD
BEGIN:DAYLIGHT
TZOFFSETFROM:+0100
TZOFFSETTO:+0200
TZNAME:CEST
DTSTART:20230326T010000
END:DAYLIGHT
BEGIN:STANDARD
TZOFFSETFROM:+0200
TZOFFSETTO:+0100
TZNAME:CET
DTSTART:20231029T010000
END:STANDARD
BEGIN:DAYLIGHT
TZOFFSETFROM:+0100
TZOFFSETTO:+0200
TZNAME:CEST
DTSTART:20240331T010000
END:DAYLIGHT
BEGIN:STANDARD
TZOFFSETFROM:+0200
TZOFFSETTO:+0100
TZNAME:CET
DTSTART:20241027T010000
END:STANDARD
END:VTIMEZONE
BEGIN:VEVENT
DTSTART;TZID=Europe/Berlin:20230606T180000
DTEND;TZID=Europe/Berlin:20230606T180000
DTSTAMP:20260424T143837
CREATED:20230424T101454Z
LAST-MODIFIED:20230424T101512Z
UID:1680-1686074400-1686074400@wandelstadt-esslingen.de
SUMMARY:Best Practice – Energiewende am Beispiel der Stadt Esslingen
DESCRIPTION:Bei der Erzeugung von Wärme und Strom setzt die Stadt Esslingen schon seit langem auf erneuerbare Energien und Kraft-Wärme-Kopplung. An konkreten Projekten und Beispielen wird der Oberbürgermeister zeigen\, wie regenerative Energiequellen wie Biomasse\, Wasserkraft\, Sonnenenergie\, Windenergie und Geothermie in der Stadt genutzt werden. \nReferent: Matthias Klopfer\, Oberbürgermeister der Stadt Esslingen
URL:https://wandelstadt-esslingen.de/event/best-practice-energiewende-am-beispiel-der-stadt-esslingen/
LOCATION:Campus Stadtmitte / Hochschule Eslingen\, Kanalstraße 33\, Esslingen\, Deutschland
END:VEVENT
END:VCALENDAR