BEGIN:VCALENDAR
VERSION:2.0
PRODID:-//Wandelstadt Esslingen - ECPv6.15.20//NONSGML v1.0//EN
CALSCALE:GREGORIAN
METHOD:PUBLISH
X-WR-CALNAME:Wandelstadt Esslingen
X-ORIGINAL-URL:https://wandelstadt-esslingen.de
X-WR-CALDESC:Veranstaltungen für Wandelstadt Esslingen
REFRESH-INTERVAL;VALUE=DURATION:PT1H
X-Robots-Tag:noindex
X-PUBLISHED-TTL:PT1H
BEGIN:VTIMEZONE
TZID:Europe/Berlin
BEGIN:DAYLIGHT
TZOFFSETFROM:+0100
TZOFFSETTO:+0200
TZNAME:CEST
DTSTART:20230326T010000
END:DAYLIGHT
BEGIN:STANDARD
TZOFFSETFROM:+0200
TZOFFSETTO:+0100
TZNAME:CET
DTSTART:20231029T010000
END:STANDARD
BEGIN:DAYLIGHT
TZOFFSETFROM:+0100
TZOFFSETTO:+0200
TZNAME:CEST
DTSTART:20240331T010000
END:DAYLIGHT
BEGIN:STANDARD
TZOFFSETFROM:+0200
TZOFFSETTO:+0100
TZNAME:CET
DTSTART:20241027T010000
END:STANDARD
BEGIN:DAYLIGHT
TZOFFSETFROM:+0100
TZOFFSETTO:+0200
TZNAME:CEST
DTSTART:20250330T010000
END:DAYLIGHT
BEGIN:STANDARD
TZOFFSETFROM:+0200
TZOFFSETTO:+0100
TZNAME:CET
DTSTART:20251026T010000
END:STANDARD
END:VTIMEZONE
BEGIN:VEVENT
DTSTART;TZID=Europe/Berlin:20241004T140000
DTEND;TZID=Europe/Berlin:20241004T160000
DTSTAMP:20260421T235408
CREATED:20240208T160917Z
LAST-MODIFIED:20250424T162425Z
UID:10002493-1728050400-1728057600@wandelstadt-esslingen.de
SUMMARY:Beratung Esslinger Initiative
DESCRIPTION:Das Leben vom guten Ende her denken.\n\n\n\n\n\n\n\n\n\n\n\n\n\n\n\n\n\n\n\n\nFreitags 14 bis 16 Uhr kostenlose Beratungen der Esslinger Initiative e.V.\nAnmeldung; Fr 9-11 Uhr über Tel. 0711/357420 \nJa das ist unangenehm\, wo doch jetzt Leben dran ist. Scheint doch auch logisch zu sein es so anzugehen wie Heinz Erhardt seine Gedichte anfing „Ich fang mal mit dem Anfang an“.\n„Das Leben vom guten Ende her denken“ ist quasi das Motto der Esslinger Initiative um die es hier heute geht. Sie selbst bezeichnet sich als \n„Eine Initiative für die Wahrung von Menschenwürde und Selbstbestimmung im Alter und bei Krankheit“\, ausgehend von der Frage: „ \nWie kann das Selbstbestimmungsrecht im Alter und bei Krankheit – also in schwierigen Lebensphasen – erhalten werden?“. \nDie Esslinger Initiative … \n\nsetzt sich ein für einen menschenwürdigen Umgang mit Schwerstkranken und Sterbenden\nfördert die Verbesserung der medizinischen und pflegerischen Versorgung Schwerstkranker und Sterbender (Palliative Care)\ntritt ein für die Wahrung des Selbstbestimmungsrechts im Gesundheitswesen und in der Altenpflege\nwirbt für ihre Anliegen in öffentlichen Veranstaltungen\nbietet Beratungen zur Vorsorge an\nstellt Formulare zur Vorsorge zur Verfügung\nschult Ehrenamtliche zu kompetenten Beraterinnen und Beratern und bildet diese regelmäßig weiter\nunterstützt die Durchsetzung einer vorsorgenden Gesundheitsplanung (ACP)\n\n  \nDas besondere Angebot der Esslinger Initiative ist eine kostenlose und unabhängige Beratung zur Vorsorge\, abgestimmt auf die ganz persönliche Situation. Beratungsstellen im gesamten Landkreis Esslingen und darüber hinaus bieten diese Hilfe an.\nDas Ende geht alle an – ein Angebot an alle über 18!
URL:https://wandelstadt-esslingen.de/event/beratung-esslinger-initiative-bitte-vorab-anmelden/2024-10-04/
LOCATION:Forum Esslingen – Zentrum für Bürgerengagement\, Schelztorstraße 38\, Esslingen\, Deutschland
ORGANIZER;CN="Esslinger Initiative e.V.":MAILTO:news@esslinger-initiative.de
END:VEVENT
END:VCALENDAR