BEGIN:VCALENDAR
VERSION:2.0
PRODID:-//Wandelstadt Esslingen - ECPv6.15.20//NONSGML v1.0//EN
CALSCALE:GREGORIAN
METHOD:PUBLISH
X-WR-CALNAME:Wandelstadt Esslingen
X-ORIGINAL-URL:https://wandelstadt-esslingen.de
X-WR-CALDESC:Veranstaltungen für Wandelstadt Esslingen
REFRESH-INTERVAL;VALUE=DURATION:PT1H
X-Robots-Tag:noindex
X-PUBLISHED-TTL:PT1H
BEGIN:VTIMEZONE
TZID:Europe/Berlin
BEGIN:DAYLIGHT
TZOFFSETFROM:+0100
TZOFFSETTO:+0200
TZNAME:CEST
DTSTART:20230326T010000
END:DAYLIGHT
BEGIN:STANDARD
TZOFFSETFROM:+0200
TZOFFSETTO:+0100
TZNAME:CET
DTSTART:20231029T010000
END:STANDARD
BEGIN:DAYLIGHT
TZOFFSETFROM:+0100
TZOFFSETTO:+0200
TZNAME:CEST
DTSTART:20240331T010000
END:DAYLIGHT
BEGIN:STANDARD
TZOFFSETFROM:+0200
TZOFFSETTO:+0100
TZNAME:CET
DTSTART:20241027T010000
END:STANDARD
BEGIN:DAYLIGHT
TZOFFSETFROM:+0100
TZOFFSETTO:+0200
TZNAME:CEST
DTSTART:20250330T010000
END:DAYLIGHT
BEGIN:STANDARD
TZOFFSETFROM:+0200
TZOFFSETTO:+0100
TZNAME:CET
DTSTART:20251026T010000
END:STANDARD
END:VTIMEZONE
BEGIN:VEVENT
DTSTART;VALUE=DATE:20240421
DTEND;VALUE=DATE:20240422
DTSTAMP:20260424T202906
CREATED:20240108T120839Z
LAST-MODIFIED:20240108T121013Z
UID:10002218-1713657600-1713742200@wandelstadt-esslingen.de
SUMMARY:Barcamp Nachhaltigkeit und Gesundheit
DESCRIPTION:Das 2. Barcamp Nachhaltigkeit und Gesundheit findet statt am Samstag\, 20.04.\, und am Sonntag\, 21.04.2024. 2023 wird es kein BCNG geben.\n \nDas Event ans sich findet jährlich an der VHS Esslingen bei Stuttgart statt. Wir treffen uns live vor Ort. Bei diesem Barcamp geht es um die die Themen Nachhaltigkeit und Gesundheit. Alle Teilnehmenden sind eingeladen\, ihr Wissen und ihre persönichen Erfahrungen weiterzugeben sowie Fragen und Diskussionen einzubringen. Aus diesen ergibt sich ein spontanes\, aktuelles und für alle spannendes Tagesprogramm! \nEs ist auf ehrenamtlicher Basis organisiert und durchgeführt. Anmeldungen sind ab dem 1. Februar möglich. Es wird pro Person und Tag 25 Euro inkl. Verpflegung kosten.\nInfos für Teilnehmende als auch Sponsoren/Sponsorinnen und UnterstützerInnen findet man auf der Website www.bcng.de. Auch ist dort eine Möglichkeit hinterlegt zur Anmeldung zum Newsletter.
URL:https://wandelstadt-esslingen.de/event/barcamp-nachhaltigkeit-und-gesundheit/2024-04-21/
LOCATION:VHS Esslingen\, Mettinger Str. 125\, Esslingen\, 73728
ATTACH;FMTTYPE=image/png:https://wandelstadt-esslingen.de/wp-content/uploads/2024/01/Logo_barcamp-Nachhaltigkeit-Gesundheit_header-993dac20.png
END:VEVENT
END:VCALENDAR