BEGIN:VCALENDAR
VERSION:2.0
PRODID:-//Wandelstadt Esslingen - ECPv6.15.20//NONSGML v1.0//EN
CALSCALE:GREGORIAN
METHOD:PUBLISH
X-WR-CALNAME:Wandelstadt Esslingen
X-ORIGINAL-URL:https://wandelstadt-esslingen.de
X-WR-CALDESC:Veranstaltungen für Wandelstadt Esslingen
REFRESH-INTERVAL;VALUE=DURATION:PT1H
X-Robots-Tag:noindex
X-PUBLISHED-TTL:PT1H
BEGIN:VTIMEZONE
TZID:Europe/Berlin
BEGIN:DAYLIGHT
TZOFFSETFROM:+0100
TZOFFSETTO:+0200
TZNAME:CEST
DTSTART:20240331T010000
END:DAYLIGHT
BEGIN:STANDARD
TZOFFSETFROM:+0200
TZOFFSETTO:+0100
TZNAME:CET
DTSTART:20241027T010000
END:STANDARD
BEGIN:DAYLIGHT
TZOFFSETFROM:+0100
TZOFFSETTO:+0200
TZNAME:CEST
DTSTART:20250330T010000
END:DAYLIGHT
BEGIN:STANDARD
TZOFFSETFROM:+0200
TZOFFSETTO:+0100
TZNAME:CET
DTSTART:20251026T010000
END:STANDARD
BEGIN:DAYLIGHT
TZOFFSETFROM:+0100
TZOFFSETTO:+0200
TZNAME:CEST
DTSTART:20260329T010000
END:DAYLIGHT
BEGIN:STANDARD
TZOFFSETFROM:+0200
TZOFFSETTO:+0100
TZNAME:CET
DTSTART:20261025T010000
END:STANDARD
END:VTIMEZONE
BEGIN:VEVENT
DTSTART;TZID=Europe/Berlin:20250401T193000
DTEND;TZID=Europe/Berlin:20250401T210000
DTSTAMP:20260421T235022
CREATED:20250328T174500Z
LAST-MODIFIED:20250328T174500Z
UID:4515-1743535800-1743541200@wandelstadt-esslingen.de
SUMMARY:Balkonkraftwerke (Mini Photovoltaik)
DESCRIPTION:Für 7 Cent den eigenen Ökostrom erzeugen: \nNach diesem Vortrag wissen Sie\, wie man den eigenen Strom schnell\, einfach und ohne Bürokratie produziert und damit Stromkosten senken kann und ihn direkt in das eigene Haus oder die Mietwohnung einspeist. \nBalkonkraftwerke können ein Einstieg in diese Thematik sein – kleine Solaranlagen erzeugen Strom und speisen ihn direkt in das eigene Haus oder die Mietwohnung ein. \nAn diesem Abend wird das Modell eines Balkonkraftwerks vorgestellt. \nVorgestellt wird der komplette Ablauf von ersten Überlegungen über die Materialbeschaffung\, Installation\, Inbetriebnahme bis hin zum Vorteil für das eigene Portemonnaie – und für den Klimawandel. \nJede:r Teilnehmer:in bekommt die Unterlagen\, um alles nachzuvollziehen. \nBeispiele Balkonkraftwerke www.youtube.com/watch \nSicherheit von Balkonkraftwerken mit vielen Informationen zu Herstellern\, Rechtliches und Praktisches www.youtube.com/watch \n\nAnmeldung zum kostenlosen Onlinevortrag bei der VHS.
URL:https://wandelstadt-esslingen.de/event/balkonkraftwerke-mini-photovoltaik-2/
LOCATION:online
CATEGORIES:Infoveranstaltung
END:VEVENT
END:VCALENDAR