BEGIN:VCALENDAR
VERSION:2.0
PRODID:-//Wandelstadt Esslingen - ECPv6.15.20//NONSGML v1.0//EN
CALSCALE:GREGORIAN
METHOD:PUBLISH
X-WR-CALNAME:Wandelstadt Esslingen
X-ORIGINAL-URL:https://wandelstadt-esslingen.de
X-WR-CALDESC:Veranstaltungen für Wandelstadt Esslingen
REFRESH-INTERVAL;VALUE=DURATION:PT1H
X-Robots-Tag:noindex
X-PUBLISHED-TTL:PT1H
BEGIN:VTIMEZONE
TZID:Europe/Berlin
BEGIN:DAYLIGHT
TZOFFSETFROM:+0100
TZOFFSETTO:+0200
TZNAME:CEST
DTSTART:20240331T010000
END:DAYLIGHT
BEGIN:STANDARD
TZOFFSETFROM:+0200
TZOFFSETTO:+0100
TZNAME:CET
DTSTART:20241027T010000
END:STANDARD
BEGIN:DAYLIGHT
TZOFFSETFROM:+0100
TZOFFSETTO:+0200
TZNAME:CEST
DTSTART:20250330T010000
END:DAYLIGHT
BEGIN:STANDARD
TZOFFSETFROM:+0200
TZOFFSETTO:+0100
TZNAME:CET
DTSTART:20251026T010000
END:STANDARD
BEGIN:DAYLIGHT
TZOFFSETFROM:+0100
TZOFFSETTO:+0200
TZNAME:CEST
DTSTART:20260329T010000
END:DAYLIGHT
BEGIN:STANDARD
TZOFFSETFROM:+0200
TZOFFSETTO:+0100
TZNAME:CET
DTSTART:20261025T010000
END:STANDARD
END:VTIMEZONE
BEGIN:VEVENT
DTSTART;TZID=Europe/Berlin:20250917T080000
DTEND;TZID=Europe/Berlin:20250917T170000
DTSTAMP:20260422T012909
CREATED:20250903T100404Z
LAST-MODIFIED:20250903T100404Z
UID:6231-1758096000-1758128400@wandelstadt-esslingen.de
SUMMARY:Ausflug zur Burg Helfenstein
DESCRIPTION:Der Stadtseniorenrat lädt zu einem Ausflug zur Burg Helfenstein und dem Ödenturm ein.  Die ca. 6 km Wanderung (Aufstieg 250 m\, Trittsicherheit erforderlich) geht vom Bahnhof Geislingen auf die Alte Weilersteige\, die direkt zur Burg Helfenstein\, wegen ihrer Größe einer der bedeutendsten des Landes\, führt. Entlang des Albtraufes wandern wir dann zum Ödenturm\, dem Wahrzeichen von Geislingen und kehren anschließend zurück im Filstal in der Fünftälerstadt ein. Treffpunkt: ZOB Esslingen um 8.30 Uhr. Abfahrt: 8.49 Uhr Gleis 5 nach Geislingen an der Steige\, Wer kein Deutschland Ticket besitzt\, muss eine  Fahrkarte (Gruppenticket) lösen. Anmeldung: Heinz Reutter\, 01755648445
URL:https://wandelstadt-esslingen.de/event/ausflug-zur-burg-helfenstein/
LOCATION:Treffpunkt am ZOB\, Bahnhof\, Esslingen
CATEGORIES:Ausflug
ATTACH;FMTTYPE=image/jpeg:https://wandelstadt-esslingen.de/wp-content/uploads/2025/05/Logo-SSR.jpg
END:VEVENT
END:VCALENDAR