BEGIN:VCALENDAR
VERSION:2.0
PRODID:-//Wandelstadt Esslingen - ECPv6.15.20//NONSGML v1.0//EN
CALSCALE:GREGORIAN
METHOD:PUBLISH
X-WR-CALNAME:Wandelstadt Esslingen
X-ORIGINAL-URL:https://wandelstadt-esslingen.de
X-WR-CALDESC:Veranstaltungen für Wandelstadt Esslingen
REFRESH-INTERVAL;VALUE=DURATION:PT1H
X-Robots-Tag:noindex
X-PUBLISHED-TTL:PT1H
BEGIN:VTIMEZONE
TZID:Europe/Berlin
BEGIN:DAYLIGHT
TZOFFSETFROM:+0100
TZOFFSETTO:+0200
TZNAME:CEST
DTSTART:20240331T010000
END:DAYLIGHT
BEGIN:STANDARD
TZOFFSETFROM:+0200
TZOFFSETTO:+0100
TZNAME:CET
DTSTART:20241027T010000
END:STANDARD
BEGIN:DAYLIGHT
TZOFFSETFROM:+0100
TZOFFSETTO:+0200
TZNAME:CEST
DTSTART:20250330T010000
END:DAYLIGHT
BEGIN:STANDARD
TZOFFSETFROM:+0200
TZOFFSETTO:+0100
TZNAME:CET
DTSTART:20251026T010000
END:STANDARD
BEGIN:DAYLIGHT
TZOFFSETFROM:+0100
TZOFFSETTO:+0200
TZNAME:CEST
DTSTART:20260329T010000
END:DAYLIGHT
BEGIN:STANDARD
TZOFFSETFROM:+0200
TZOFFSETTO:+0100
TZNAME:CET
DTSTART:20261025T010000
END:STANDARD
END:VTIMEZONE
BEGIN:VEVENT
DTSTART;TZID=Europe/Berlin:20251119T140000
DTEND;TZID=Europe/Berlin:20251119T160000
DTSTAMP:20260421T222422
CREATED:20251027T171923Z
LAST-MODIFIED:20251027T171923Z
UID:6935-1763560800-1763568000@wandelstadt-esslingen.de
SUMMARY:Auf dem Weg der Thorarolle - Streifzug durch das Jüdische Esslingen
DESCRIPTION:Wir folgen dem Weg\, den die neue Thorarolle am 7. Juni 2016/1. Siwan 5776 zurückgelegt hat und begegnen dabei einigen Stolperstein-Biografien. Dabei schließen wir in der Synagoge mit einem kurzen Gespräch mit Elena Braginska und Wolfgang Drexler ab. \nKOSTEN:\nFreier Eintritt \nVERANSTALTER:\nDenkzeichen e.V.
URL:https://wandelstadt-esslingen.de/event/auf-dem-weg-der-thorarolle-streifzug-durch-das-juedische-esslingen/
LOCATION:Altes Rathaus\, Esslingen am Neckar\, 73728
CATEGORIES:Ausflug,Kulturveranstaltung,Live-Veranstaltung,Wanderung
END:VEVENT
END:VCALENDAR