BEGIN:VCALENDAR
VERSION:2.0
PRODID:-//Wandelstadt Esslingen - ECPv6.15.20//NONSGML v1.0//EN
CALSCALE:GREGORIAN
METHOD:PUBLISH
X-WR-CALNAME:Wandelstadt Esslingen
X-ORIGINAL-URL:https://wandelstadt-esslingen.de
X-WR-CALDESC:Veranstaltungen für Wandelstadt Esslingen
REFRESH-INTERVAL;VALUE=DURATION:PT1H
X-Robots-Tag:noindex
X-PUBLISHED-TTL:PT1H
BEGIN:VTIMEZONE
TZID:Europe/Berlin
BEGIN:DAYLIGHT
TZOFFSETFROM:+0100
TZOFFSETTO:+0200
TZNAME:CEST
DTSTART:20240331T010000
END:DAYLIGHT
BEGIN:STANDARD
TZOFFSETFROM:+0200
TZOFFSETTO:+0100
TZNAME:CET
DTSTART:20241027T010000
END:STANDARD
BEGIN:DAYLIGHT
TZOFFSETFROM:+0100
TZOFFSETTO:+0200
TZNAME:CEST
DTSTART:20250330T010000
END:DAYLIGHT
BEGIN:STANDARD
TZOFFSETFROM:+0200
TZOFFSETTO:+0100
TZNAME:CET
DTSTART:20251026T010000
END:STANDARD
BEGIN:DAYLIGHT
TZOFFSETFROM:+0100
TZOFFSETTO:+0200
TZNAME:CEST
DTSTART:20260329T010000
END:DAYLIGHT
BEGIN:STANDARD
TZOFFSETFROM:+0200
TZOFFSETTO:+0100
TZNAME:CET
DTSTART:20261025T010000
END:STANDARD
END:VTIMEZONE
BEGIN:VEVENT
DTSTART;TZID=Europe/Berlin:20251125T180000
DTEND;TZID=Europe/Berlin:20251125T210000
DTSTAMP:20260421T222027
CREATED:20251027T162355Z
LAST-MODIFIED:20251027T162408Z
UID:6915-1764093600-1764104400@wandelstadt-esslingen.de
SUMMARY:Archivalien Erzählen Jüdisches Leben
DESCRIPTION:Nach dem großen Publikumsinteresse im letzten Jahr\nwird der Leiter des Stadtarchivs\, Dr. Joachim Halbekann\,\nerneut historische Quellen vorstellen\, die Aufschluss\nüber die Geschichte der verschiedenen jüdischen\nGemeinden in Esslingen seit dem 14. Jahrhundert geben. \nKOSTEN:\nFreier Eintritt \nVERANSTALTER:\nStadtarchiv Esslingen \nANMELDUNG:\nunter stadtarchiv@esslingen.de\nTeilnehmerzahl begrenzt
URL:https://wandelstadt-esslingen.de/event/archivalien-erzaehlen-juedisches-leben/
LOCATION:Stadtarchiv Esslingen\, Georg-Christian-von-Kessler-Platz 6\, Esslingen am Neckar\, 73728
CATEGORIES:Kulturveranstaltung,Live-Veranstaltung
ORGANIZER;CN="Stadtarchiv Esslingen":MAILTO:stadtarchiv@esslingen.de
END:VEVENT
END:VCALENDAR