BEGIN:VCALENDAR
VERSION:2.0
PRODID:-//Wandelstadt Esslingen - ECPv6.15.20//NONSGML v1.0//EN
CALSCALE:GREGORIAN
METHOD:PUBLISH
X-WR-CALNAME:Wandelstadt Esslingen
X-ORIGINAL-URL:https://wandelstadt-esslingen.de
X-WR-CALDESC:Veranstaltungen für Wandelstadt Esslingen
REFRESH-INTERVAL;VALUE=DURATION:PT1H
X-Robots-Tag:noindex
X-PUBLISHED-TTL:PT1H
BEGIN:VTIMEZONE
TZID:Europe/Berlin
BEGIN:DAYLIGHT
TZOFFSETFROM:+0100
TZOFFSETTO:+0200
TZNAME:CEST
DTSTART:20230326T010000
END:DAYLIGHT
BEGIN:STANDARD
TZOFFSETFROM:+0200
TZOFFSETTO:+0100
TZNAME:CET
DTSTART:20231029T010000
END:STANDARD
BEGIN:DAYLIGHT
TZOFFSETFROM:+0100
TZOFFSETTO:+0200
TZNAME:CEST
DTSTART:20240331T010000
END:DAYLIGHT
BEGIN:STANDARD
TZOFFSETFROM:+0200
TZOFFSETTO:+0100
TZNAME:CET
DTSTART:20241027T010000
END:STANDARD
BEGIN:DAYLIGHT
TZOFFSETFROM:+0100
TZOFFSETTO:+0200
TZNAME:CEST
DTSTART:20250330T010000
END:DAYLIGHT
BEGIN:STANDARD
TZOFFSETFROM:+0200
TZOFFSETTO:+0100
TZNAME:CET
DTSTART:20251026T010000
END:STANDARD
END:VTIMEZONE
BEGIN:VEVENT
DTSTART;TZID=Europe/Berlin:20240902T170000
DTEND;TZID=Europe/Berlin:20240902T180000
DTSTAMP:20260425T020238
CREATED:20240702T114038Z
LAST-MODIFIED:20240702T114101Z
UID:3235-1725296400-1725300000@wandelstadt-esslingen.de
SUMMARY:Antikriegstag Esslingen
DESCRIPTION:Nie wieder Krieg! Nie wieder Faschismus!\nNie wieder\, für alle! \nProgramm: \n\nRednerin: Pablo Flock | Informationsstelle Militarisierung (IMI)\, Tübingen\nModeration: Sigrid Altherr-König | Friedensbündnis Esslingen\nMusik: Wolfgang Fuhr | Saxophon | Esslingen\nKranzniederlegung und Mitmachaktion: Vorbilder für Friedensaktivist*innen\n\nDieses Jahr ist das Grundgesetz 75 Jahre alt geworden. Es bezieht sich in seinen ersten Artikeln auf die Allgemeine Erklärung der Menschenrechte von 1948. Beide Texte waren das Ergebnis der grauenhaften Erfahrungen mit dem Faschismus und dem zweiten Weltkrieg. Menschenrechte lassen sich nicht auf nationalistische\, ideologische\, (partei-)politische oder ökonomische Interessenlagen reduzieren. Menschenrechte gelten für alle und sind unteilbar.\nIm Namen der „Kriegslogik“ werden Verbrechen an der Menschheit ignoriert\, akzeptiert oder gar gerechtfertigt. Die Welt wird von immer neuen Kriegen erschüttert\, Menschen werden getötet\, Länder verwüstet. Es droht auch die Gefahr eines Atomkriegs mit unabsehbaren Folgen für die Menschheit und die Umwelt. \nWir wollen den Frieden gewinnen und nicht den Krieg! Dafür treten wir ein. Wir brauchen Diplomatie und Friedensverhandlungen u.a. in der Ukraine oder in Gaza\, Abrüstung statt Aufrüstung. Die Aufblähung des Militärhaushalts verhindert dringend notwendige Investitionen in Klimapolitik\, Gesundheit\, Bildung\, Soziales und Infrastruktur.
URL:https://wandelstadt-esslingen.de/event/antikriegstag-2/
LOCATION:Nikolauskapelle\, Innere Brücke\, Esslingen\, 73728\, Deutschland
ORGANIZER;CN="DGB":MAILTO:Peter.Schadt@dgb.de
END:VEVENT
END:VCALENDAR