BEGIN:VCALENDAR
VERSION:2.0
PRODID:-//Wandelstadt Esslingen - ECPv6.15.20//NONSGML v1.0//EN
CALSCALE:GREGORIAN
METHOD:PUBLISH
X-WR-CALNAME:Wandelstadt Esslingen
X-ORIGINAL-URL:https://wandelstadt-esslingen.de
X-WR-CALDESC:Veranstaltungen für Wandelstadt Esslingen
REFRESH-INTERVAL;VALUE=DURATION:PT1H
X-Robots-Tag:noindex
X-PUBLISHED-TTL:PT1H
BEGIN:VTIMEZONE
TZID:Europe/Berlin
BEGIN:DAYLIGHT
TZOFFSETFROM:+0100
TZOFFSETTO:+0200
TZNAME:CEST
DTSTART:20240331T010000
END:DAYLIGHT
BEGIN:STANDARD
TZOFFSETFROM:+0200
TZOFFSETTO:+0100
TZNAME:CET
DTSTART:20241027T010000
END:STANDARD
BEGIN:DAYLIGHT
TZOFFSETFROM:+0100
TZOFFSETTO:+0200
TZNAME:CEST
DTSTART:20250330T010000
END:DAYLIGHT
BEGIN:STANDARD
TZOFFSETFROM:+0200
TZOFFSETTO:+0100
TZNAME:CET
DTSTART:20251026T010000
END:STANDARD
BEGIN:DAYLIGHT
TZOFFSETFROM:+0100
TZOFFSETTO:+0200
TZNAME:CEST
DTSTART:20260329T010000
END:DAYLIGHT
BEGIN:STANDARD
TZOFFSETFROM:+0200
TZOFFSETTO:+0100
TZNAME:CET
DTSTART:20261025T010000
END:STANDARD
END:VTIMEZONE
BEGIN:VEVENT
DTSTART;TZID=Europe/Berlin:20250322T160000
DTEND;TZID=Europe/Berlin:20250322T164500
DTSTAMP:20260421T213509
CREATED:20250224T192712Z
LAST-MODIFIED:20250224T193040Z
UID:4338-1742659200-1742661900@wandelstadt-esslingen.de
SUMMARY:Altes Wissen für das Jahr 2025
DESCRIPTION:Wir leben in herausfordernden Zeiten. Große Krisen wie der Klimawandel und militärische Konflikte rütteln an den Grundfesten unserer Gesellschaft\, und auch ins persönliche Leben dringen Verunsicherung und ein Gefühl von Chaos ein. \nAlte Prophezeiungen indigener Völker haben diese Krise der Menschheit lange vorhergesehen\, und sie überliefern klare Botschaften für die aktuelle Zeit. Dem Jahr 2025 kommt dabei eine ganz besondere Bedeutung zu. Inmitten des Chaos liefern diese Botschaften Orientierung und Klarheit. Sie sind voller Hoffnung und Inspiration für uns. \nIn diesem Workshop erfährst du\, wie sich das Jahr 2025 in der Geschichte der Menschheit einordnet und welche konkreten Schritte und Tipps uns indigene Völker anraten. Erkenne\, wie du selbst Teil der Lösung werden kannst und schöpfe Zuversicht aus dem alten Wissen.
URL:https://wandelstadt-esslingen.de/event/altes-wissen-fuer-das-jahr-2025/
LOCATION:menschen:raum\, Eugenie-von-Soden-Straße 16A\, Esslingen am Neckar\, 73728
ORGANIZER;CN="sereia Naturspiritualit%C3%A4t":MAILTO:info@sereia-aura.de
END:VEVENT
END:VCALENDAR