BEGIN:VCALENDAR
VERSION:2.0
PRODID:-//Wandelstadt Esslingen - ECPv6.15.20//NONSGML v1.0//EN
CALSCALE:GREGORIAN
METHOD:PUBLISH
X-WR-CALNAME:Wandelstadt Esslingen
X-ORIGINAL-URL:https://wandelstadt-esslingen.de
X-WR-CALDESC:Veranstaltungen für Wandelstadt Esslingen
REFRESH-INTERVAL;VALUE=DURATION:PT1H
X-Robots-Tag:noindex
X-PUBLISHED-TTL:PT1H
BEGIN:VTIMEZONE
TZID:Europe/Berlin
BEGIN:DAYLIGHT
TZOFFSETFROM:+0100
TZOFFSETTO:+0200
TZNAME:CEST
DTSTART:20240331T010000
END:DAYLIGHT
BEGIN:STANDARD
TZOFFSETFROM:+0200
TZOFFSETTO:+0100
TZNAME:CET
DTSTART:20241027T010000
END:STANDARD
BEGIN:DAYLIGHT
TZOFFSETFROM:+0100
TZOFFSETTO:+0200
TZNAME:CEST
DTSTART:20250330T010000
END:DAYLIGHT
BEGIN:STANDARD
TZOFFSETFROM:+0200
TZOFFSETTO:+0100
TZNAME:CET
DTSTART:20251026T010000
END:STANDARD
BEGIN:DAYLIGHT
TZOFFSETFROM:+0100
TZOFFSETTO:+0200
TZNAME:CEST
DTSTART:20260329T010000
END:DAYLIGHT
BEGIN:STANDARD
TZOFFSETFROM:+0200
TZOFFSETTO:+0100
TZNAME:CET
DTSTART:20261025T010000
END:STANDARD
END:VTIMEZONE
BEGIN:VEVENT
DTSTART;TZID=Europe/Berlin:20251203T190000
DTEND;TZID=Europe/Berlin:20251203T190000
DTSTAMP:20260421T200055
CREATED:20251125T193055Z
LAST-MODIFIED:20251125T193055Z
UID:7273-1764788400-1764788400@wandelstadt-esslingen.de
SUMMARY:All I want for christmas is a feminist book
DESCRIPTION:Autorin und Frauenrechtlerin Jasmin Riter stellt ihre liebsten (queer-)feministischen Bücher vor: vom Roman übers Sachbuch bis zum Lyrik-Band – und ganz bestimmt hat sie auch Titel für Kinder und Jugendliche dabei. Alles ideale Weihnachtsgeschenkideen für Familie\, Freunde und Dich selbst! Mit Büchertisch von Provinzbuch. Eintritt auf Spendenbasis.
URL:https://wandelstadt-esslingen.de/event/all-i-want-for-christmas-is-a-feminist-book/
LOCATION:Poppinski\, Küferstraße 40\, Esslingen\, 73728\, Deutschland
ORGANIZER;CN="Poppinski":MAILTO:hello@poppinski.de
END:VEVENT
END:VCALENDAR