BEGIN:VCALENDAR
VERSION:2.0
PRODID:-//Wandelstadt Esslingen - ECPv6.15.20//NONSGML v1.0//EN
CALSCALE:GREGORIAN
METHOD:PUBLISH
X-WR-CALNAME:Wandelstadt Esslingen
X-ORIGINAL-URL:https://wandelstadt-esslingen.de
X-WR-CALDESC:Veranstaltungen für Wandelstadt Esslingen
REFRESH-INTERVAL;VALUE=DURATION:PT1H
X-Robots-Tag:noindex
X-PUBLISHED-TTL:PT1H
BEGIN:VTIMEZONE
TZID:Europe/Berlin
BEGIN:DAYLIGHT
TZOFFSETFROM:+0100
TZOFFSETTO:+0200
TZNAME:CEST
DTSTART:20240331T010000
END:DAYLIGHT
BEGIN:STANDARD
TZOFFSETFROM:+0200
TZOFFSETTO:+0100
TZNAME:CET
DTSTART:20241027T010000
END:STANDARD
BEGIN:DAYLIGHT
TZOFFSETFROM:+0100
TZOFFSETTO:+0200
TZNAME:CEST
DTSTART:20250330T010000
END:DAYLIGHT
BEGIN:STANDARD
TZOFFSETFROM:+0200
TZOFFSETTO:+0100
TZNAME:CET
DTSTART:20251026T010000
END:STANDARD
BEGIN:DAYLIGHT
TZOFFSETFROM:+0100
TZOFFSETTO:+0200
TZNAME:CEST
DTSTART:20260329T010000
END:DAYLIGHT
BEGIN:STANDARD
TZOFFSETFROM:+0200
TZOFFSETTO:+0100
TZNAME:CET
DTSTART:20261025T010000
END:STANDARD
END:VTIMEZONE
BEGIN:VEVENT
DTSTART;TZID=Europe/Berlin:20250708T180000
DTEND;TZID=Europe/Berlin:20250708T193000
DTSTAMP:20260421T220118
CREATED:20240404T160027Z
LAST-MODIFIED:20260111T163620Z
UID:10005679-1751997600-1752003000@wandelstadt-esslingen.de
SUMMARY:Stadtgärtle  – Gemeinsames Gärtnern in der Esslinger City – Transition Town Esslingen
DESCRIPTION:Die AG Stadtgärtle trifft sich zum Buddeln und Fachsimpeln vor Ort am Kesselwasen. Es darf gejätet\, gepflanzt und geerntet werden. Interessierte sind jederzeit herzlich willkommen. Veranstalter: Transition Town Esslingen Anmeldung über das Kontaktformular auf unserer Webseite www.transition-town-es.de
URL:https://wandelstadt-esslingen.de/event/ag-stadtgaertle-gemeinsam-gaertnern-in-der-esslinger-city-5-2/2025-07-08/
LOCATION:Stadtgärtle\, Kesselwasen\, Esslingen am Neckar\, 73728\, Deutschland
ORGANIZER;CN="Transition Town Esslingen - Stadt im Wandel":MAILTO:kontakt@transition-town-es.de
GEO:48.740985961712;9.3061272393363
X-APPLE-STRUCTURED-LOCATION;VALUE=URI;X-ADDRESS=Stadtgärtle Kesselwasen Esslingen am Neckar 73728 Deutschland;X-APPLE-RADIUS=500;X-TITLE=Kesselwasen:geo:9.3061272393363,48.740985961712
END:VEVENT
END:VCALENDAR