BEGIN:VCALENDAR
VERSION:2.0
PRODID:-//Wandelstadt Esslingen - ECPv6.15.20//NONSGML v1.0//EN
CALSCALE:GREGORIAN
METHOD:PUBLISH
X-WR-CALNAME:Wandelstadt Esslingen
X-ORIGINAL-URL:https://wandelstadt-esslingen.de
X-WR-CALDESC:Veranstaltungen für Wandelstadt Esslingen
REFRESH-INTERVAL;VALUE=DURATION:PT1H
X-Robots-Tag:noindex
X-PUBLISHED-TTL:PT1H
BEGIN:VTIMEZONE
TZID:Europe/Berlin
BEGIN:DAYLIGHT
TZOFFSETFROM:+0100
TZOFFSETTO:+0200
TZNAME:CEST
DTSTART:20240331T010000
END:DAYLIGHT
BEGIN:STANDARD
TZOFFSETFROM:+0200
TZOFFSETTO:+0100
TZNAME:CET
DTSTART:20241027T010000
END:STANDARD
BEGIN:DAYLIGHT
TZOFFSETFROM:+0100
TZOFFSETTO:+0200
TZNAME:CEST
DTSTART:20250330T010000
END:DAYLIGHT
BEGIN:STANDARD
TZOFFSETFROM:+0200
TZOFFSETTO:+0100
TZNAME:CET
DTSTART:20251026T010000
END:STANDARD
BEGIN:DAYLIGHT
TZOFFSETFROM:+0100
TZOFFSETTO:+0200
TZNAME:CEST
DTSTART:20260329T010000
END:DAYLIGHT
BEGIN:STANDARD
TZOFFSETFROM:+0200
TZOFFSETTO:+0100
TZNAME:CET
DTSTART:20261025T010000
END:STANDARD
END:VTIMEZONE
BEGIN:VEVENT
DTSTART;TZID=Europe/Berlin:20251130T180000
DTEND;TZID=Europe/Berlin:20251130T210000
DTSTAMP:20260421T234946
CREATED:20251027T163244Z
LAST-MODIFIED:20251027T163244Z
UID:6924-1764525600-1764536400@wandelstadt-esslingen.de
SUMMARY:Abschlusskonzert mit Dobranotch
DESCRIPTION:Das Klezmer-Ensemble Dobranotch wurde 1998 in St. Petersburg gegründet und ist seit 2023 in Deutschland beheimatet. Das Repertoire der Gruppe umfasst jüdische Lieder auf Russisch\, Yiddisch und Hebräisch und hat in all den Jahren seit ihrem Bestehen jüdische Musik und Kultur populär gemacht. Dobranotch hat zahlreiche internationale Preise gewonnen. Lassen Sie sich bezaubern und mitreißen von diesem außergewöhnlichen Ensemble! \nKOSTEN:\nFreier Eintritt\nSpenden willkommen
URL:https://wandelstadt-esslingen.de/event/abschlusskonzert-mit-dobranotch/
LOCATION:CVJM-Haus Esslingen\, Kiesstraße 3-5\, Esslingen\, 73728\, Deutschland
CATEGORIES:Kulturveranstaltung,Live-Veranstaltung
END:VEVENT
END:VCALENDAR