BEGIN:VCALENDAR
VERSION:2.0
PRODID:-//Wandelstadt Esslingen - ECPv6.15.20//NONSGML v1.0//EN
CALSCALE:GREGORIAN
METHOD:PUBLISH
X-WR-CALNAME:Wandelstadt Esslingen
X-ORIGINAL-URL:https://wandelstadt-esslingen.de
X-WR-CALDESC:Veranstaltungen für Wandelstadt Esslingen
REFRESH-INTERVAL;VALUE=DURATION:PT1H
X-Robots-Tag:noindex
X-PUBLISHED-TTL:PT1H
BEGIN:VTIMEZONE
TZID:Europe/Berlin
BEGIN:DAYLIGHT
TZOFFSETFROM:+0100
TZOFFSETTO:+0200
TZNAME:CEST
DTSTART:20250330T010000
END:DAYLIGHT
BEGIN:STANDARD
TZOFFSETFROM:+0200
TZOFFSETTO:+0100
TZNAME:CET
DTSTART:20251026T010000
END:STANDARD
BEGIN:DAYLIGHT
TZOFFSETFROM:+0100
TZOFFSETTO:+0200
TZNAME:CEST
DTSTART:20260329T010000
END:DAYLIGHT
BEGIN:STANDARD
TZOFFSETFROM:+0200
TZOFFSETTO:+0100
TZNAME:CET
DTSTART:20261025T010000
END:STANDARD
BEGIN:DAYLIGHT
TZOFFSETFROM:+0100
TZOFFSETTO:+0200
TZNAME:CEST
DTSTART:20270328T010000
END:DAYLIGHT
BEGIN:STANDARD
TZOFFSETFROM:+0200
TZOFFSETTO:+0100
TZNAME:CET
DTSTART:20271031T010000
END:STANDARD
END:VTIMEZONE
BEGIN:VEVENT
DTSTART;TZID=Europe/Berlin:20260308T213000
DTEND;TZID=Europe/Berlin:20260308T230000
DTSTAMP:20260421T171250
CREATED:20260218T104754Z
LAST-MODIFIED:20260218T104754Z
UID:8169-1773005400-1773010800@wandelstadt-esslingen.de
SUMMARY:50 Shades of Rosa Vol. 3
DESCRIPTION:Im Anschluss an die Vorstellung von „Kassandra und die Frauen Trojas” am 08.03.2026 laden die Schauspielerinnen Eva Dorlaß\, Lily Frank\, Kristin Göpfert\, Gesine Hannemann\, Franziska Theiner\, Elif Veyisoglu und Feline Zimmermann zu „50 Shades of Rosa\, Vol. 3” ein. Erleben Sie verschiedene Perspektiven auf den Feminismus\, so verschieden wie die Protagonistinnen. My Pussy. My Choice. My Body. My Voice. Der Kartenerlös wird an eine Organisation gespendet\, die sich für den Schutz von Frauen* einsetzt. \n5 Euro Eintritt\, die Eintrittskosten werden gespendet.
URL:https://wandelstadt-esslingen.de/event/50-shades-of-rosa-vol-3/
LOCATION:Württembergische Landesbühne – Schauspielhaus mit Podium 1 & 2\, Ritterstraße 11\, Esslingen\, Deutschland
CATEGORIES:Kulturveranstaltung,Live-Veranstaltung,Podiumsdiskussion,Vernetzungsveranstaltung
END:VEVENT
END:VCALENDAR