BEGIN:VCALENDAR
VERSION:2.0
PRODID:-//Wandelstadt Esslingen - ECPv6.15.20//NONSGML v1.0//EN
CALSCALE:GREGORIAN
METHOD:PUBLISH
X-WR-CALNAME:Wandelstadt Esslingen
X-ORIGINAL-URL:https://wandelstadt-esslingen.de
X-WR-CALDESC:Veranstaltungen für Wandelstadt Esslingen
REFRESH-INTERVAL;VALUE=DURATION:PT1H
X-Robots-Tag:noindex
X-PUBLISHED-TTL:PT1H
BEGIN:VTIMEZONE
TZID:Europe/Berlin
BEGIN:DAYLIGHT
TZOFFSETFROM:+0100
TZOFFSETTO:+0200
TZNAME:CEST
DTSTART:20230326T010000
END:DAYLIGHT
BEGIN:STANDARD
TZOFFSETFROM:+0200
TZOFFSETTO:+0100
TZNAME:CET
DTSTART:20231029T010000
END:STANDARD
BEGIN:DAYLIGHT
TZOFFSETFROM:+0100
TZOFFSETTO:+0200
TZNAME:CEST
DTSTART:20240331T010000
END:DAYLIGHT
BEGIN:STANDARD
TZOFFSETFROM:+0200
TZOFFSETTO:+0100
TZNAME:CET
DTSTART:20241027T010000
END:STANDARD
BEGIN:DAYLIGHT
TZOFFSETFROM:+0100
TZOFFSETTO:+0200
TZNAME:CEST
DTSTART:20250330T010000
END:DAYLIGHT
BEGIN:STANDARD
TZOFFSETFROM:+0200
TZOFFSETTO:+0100
TZNAME:CET
DTSTART:20251026T010000
END:STANDARD
END:VTIMEZONE
BEGIN:VEVENT
DTSTART;VALUE=DATE:20241107
DTEND;VALUE=DATE:20241114
DTSTAMP:20260422T065549
CREATED:20241024T211756Z
LAST-MODIFIED:20241024T211756Z
UID:3781-1730937600-1731542399@wandelstadt-esslingen.de
SUMMARY:36. QueerFilmFestival Esslingen
DESCRIPTION:Es ist soweit  – vom 7. bis 13. November findet wieder das QueerFilmFestival im KoKi Esslingen statt. Bei der 36. Ausgabe erwartet euch ein buntes und nicht ganz perfekt zwischen Anspruch und Unterhaltung ausbalanciertes Programm aus aktuelle Filmstarts\, Previews\, Filmen ohne Verleiher\, die nur auf Festivals laufen\, und jede Menge Kurzfilme\, die am fast schon legendären Kurzfilmabend präsentiert werden. Dazu gibt wieder ein vielfältiges Begleitprogramm\, Talkrunden mit interessanten Gästen und eine Queer Dance Party mit Drag-Show und DJ. \nFühlen Sie sich herzlichst eingeladen! \nNähere Informationen zum Programm\, den genauen Terminen und dem Link zum Vorverkauf gibt es unter www.queerfilmfestival.de \nEintrittspreise Queerfilmfestival:\nFilme: 10 Euro | 7 Euro ermäßigt\nThe Same Procedure – Kurzfilmabend: 14 Euro | 11 Euro ermäßigt\nQueer Dance Party: 12 Euro
URL:https://wandelstadt-esslingen.de/event/36-queerfilmfestival-esslingen/
LOCATION:Kommunales Kino\, Maille 4-9\, Esslingen\, 73728\, Deutschland
CATEGORIES:Kulturveranstaltung
END:VEVENT
END:VCALENDAR