BEGIN:VCALENDAR
VERSION:2.0
PRODID:-//Wandelstadt Esslingen - ECPv6.15.20//NONSGML v1.0//EN
CALSCALE:GREGORIAN
METHOD:PUBLISH
X-WR-CALNAME:Wandelstadt Esslingen
X-ORIGINAL-URL:https://wandelstadt-esslingen.de
X-WR-CALDESC:Veranstaltungen für Wandelstadt Esslingen
REFRESH-INTERVAL;VALUE=DURATION:PT1H
X-Robots-Tag:noindex
X-PUBLISHED-TTL:PT1H
BEGIN:VTIMEZONE
TZID:Europe/Berlin
BEGIN:DAYLIGHT
TZOFFSETFROM:+0100
TZOFFSETTO:+0200
TZNAME:CEST
DTSTART:20220327T010000
END:DAYLIGHT
BEGIN:STANDARD
TZOFFSETFROM:+0200
TZOFFSETTO:+0100
TZNAME:CET
DTSTART:20221030T010000
END:STANDARD
BEGIN:DAYLIGHT
TZOFFSETFROM:+0100
TZOFFSETTO:+0200
TZNAME:CEST
DTSTART:20230326T010000
END:DAYLIGHT
BEGIN:STANDARD
TZOFFSETFROM:+0200
TZOFFSETTO:+0100
TZNAME:CET
DTSTART:20231029T010000
END:STANDARD
BEGIN:DAYLIGHT
TZOFFSETFROM:+0100
TZOFFSETTO:+0200
TZNAME:CEST
DTSTART:20240331T010000
END:DAYLIGHT
BEGIN:STANDARD
TZOFFSETFROM:+0200
TZOFFSETTO:+0100
TZNAME:CET
DTSTART:20241027T010000
END:STANDARD
END:VTIMEZONE
BEGIN:VEVENT
DTSTART;TZID=Europe/Berlin:20231213T180000
DTEND;TZID=Europe/Berlin:20231213T210000
DTSTAMP:20260422T002506
CREATED:20231021T081202Z
LAST-MODIFIED:20231021T081817Z
UID:2263-1702490400-1702501200@wandelstadt-esslingen.de
SUMMARY:Vegane Küche regional-saisonal - bio
DESCRIPTION:„Was isst man denn eigentlich als Veganer und ist das gesund?“\nJa! Es ist vielfältig\, ausgewogen und lecker.\nWir werden dies gemeinsam in Theorie und Praxis erleben und die Vielfalt entdecken.\nAlles wird selbstverständlich ohne Zusatzstoffe und mit frischen Zutaten aus der Region sein. \nBitte mitbringen:\nSchürze\, Geschirrtuch\, Getränk und einen Behälter für Reste\, wenn ihr was mitnehmen möchtet.
URL:https://wandelstadt-esslingen.de/event/2263/
LOCATION:Esslingen\, BAZ\, Urbanstr. 28\, 1. OG\, Raum 113\, Küche\, Urbanstr. 28\, 1. OG\, Raum 113\, Küche\, Esslingen\, Deutschland
ORGANIZER;CN="Frag die Bine":MAILTO:bine@gutes-leben-akademie.de
END:VEVENT
END:VCALENDAR