BEGIN:VCALENDAR
VERSION:2.0
PRODID:-//Wandelstadt Esslingen - ECPv6.15.20//NONSGML v1.0//EN
CALSCALE:GREGORIAN
METHOD:PUBLISH
X-WR-CALNAME:Wandelstadt Esslingen
X-ORIGINAL-URL:https://wandelstadt-esslingen.de
X-WR-CALDESC:Veranstaltungen für Wandelstadt Esslingen
REFRESH-INTERVAL;VALUE=DURATION:PT1H
X-Robots-Tag:noindex
X-PUBLISHED-TTL:PT1H
BEGIN:VTIMEZONE
TZID:Europe/Berlin
BEGIN:DAYLIGHT
TZOFFSETFROM:+0100
TZOFFSETTO:+0200
TZNAME:CEST
DTSTART:20240331T010000
END:DAYLIGHT
BEGIN:STANDARD
TZOFFSETFROM:+0200
TZOFFSETTO:+0100
TZNAME:CET
DTSTART:20241027T010000
END:STANDARD
BEGIN:DAYLIGHT
TZOFFSETFROM:+0100
TZOFFSETTO:+0200
TZNAME:CEST
DTSTART:20250330T010000
END:DAYLIGHT
BEGIN:STANDARD
TZOFFSETFROM:+0200
TZOFFSETTO:+0100
TZNAME:CET
DTSTART:20251026T010000
END:STANDARD
BEGIN:DAYLIGHT
TZOFFSETFROM:+0100
TZOFFSETTO:+0200
TZNAME:CEST
DTSTART:20260329T010000
END:DAYLIGHT
BEGIN:STANDARD
TZOFFSETFROM:+0200
TZOFFSETTO:+0100
TZNAME:CET
DTSTART:20261025T010000
END:STANDARD
END:VTIMEZONE
BEGIN:VEVENT
DTSTART;TZID=Europe/Berlin:20250913T100000
DTEND;TZID=Europe/Berlin:20250913T220000
DTSTAMP:20260421T163334
CREATED:20250821T101305Z
LAST-MODIFIED:20250821T101305Z
UID:6072-1757757600-1757800800@wandelstadt-esslingen.de
SUMMARY:2. Esslinger Aktionstag KULTUR
DESCRIPTION:Das Netzwerk Kultur Esslingen veranstaltet am 13. September 2025 den 2.Esslinger AktionsTag KULTUR. Über 20 Mitglieder des Netzwerks werden an diesem Tag ihre Türen öffnen und unterschiedlichste Programmpunkte anbieten. Es werden nahezu alle künstlerischen Sparten zu erleben sein: Musik\, Gesang\, Theater\, Tanz\, bildende und mediale Künste. Ausschnitte aus Programmen\, die in einer 15 Minuten Taktung ablaufen und parallel stattfinden runden den Tag ab. Der AktionsTag ist eine Leistungsschau der vielfältigen Esslinger Kulturbranche. Die kulturellen Angebote in unserer Stadt sind wichtiger denn je: Sie tragen in wesentlichem Umfang dazu bei\, sich vielfältig mit unserer Lebensrealität auseinander zu setzten. Ganz gleich ob als Zuschauer oder als teilnehmender Akteur\, brauchen wir diesen analogen Austausch und die Möglichkeit zur kulturellen Teilhabe aller Esslingerinnen und Esslinger. Alle Angebote und Aktionen sind kostenfrei. \nAchtung: Im Flyer ist das Angebot der Kunstakademie nicht aufgeführt. Die Kunstakedemie bietet zwischen 14.00 und 18.00 Uhr ein vielseitiges Programm in der Fritz-Müller-Str. 1 an. Weitere Infos hierzu finden Sie auf dieser Seite bei „das ausführliche Programm“.
URL:https://wandelstadt-esslingen.de/event/2-esslinger-aktionstag-kultur/
CATEGORIES:Kulturveranstaltung,Live-Veranstaltung
END:VEVENT
END:VCALENDAR